Workbook
Name Aktuel_version: Kontrolpanel!$P$6
Name E18_valgt_adresse: Kontrolpanel!$G$48
Name elaftale_metode: Kontrolpanel!$E$24
Name forventet_forbrug: Kontrolpanel!$E$10
Name gns_spotpris: teknik!$B$34:$C$35
Name man_PowerLimit: Kontrolpanel!$F$58:$F$58
Name manuel_elaftale_priser: Kontrolpanel!$G$28:$I$32
Name Slutdato: Kontrolpanel!$E$54
Name Startdato: Kontrolpanel!$E$53
Name Token: Kontrolpanel!$E$7
Name Udsnit_Dato: #N/A
Name Udsnit_Dato1: #N/A
Name Udsnit_DK_Time__Måned: #N/A
Name Udsnit_DK_Time__Måned1: #N/A
Name Udsnit_DK_Time__År: #N/A
Name Udsnit_DK_Time__År1: #N/A
Name Udsnit_Time: #N/A
Name Udsnit_Time_prod: #N/A
Name valgt_abonnement: Kontrolpanel!$E$30
Name Valgt_adresse: Kontrolpanel!$D$48
Name valgt_ellev: Kontrolpanel!$E$27
Name valgt_pristillaeg: Kontrolpanel!$E$31
Name valgt_produkt: Kontrolpanel!$E$28
Name ValgtE17: teknik!$S$12
Name ValgtE18: teknik!$AG$12

Sheet Start
B3: Sikkerhedsindstillinger i Excel
B5: Før du går igang, skal du ændre en sikkerhedsindstilling, da regnearket henter data fra flere forskellige kilder: - Dine egne forbrugsdata fra Eloverblik.dk - Offentlige pris- og tarifdata fra Energidataservice - Supplerende data fra nicolaskj.dk Microsoft Excel har en indbygget sikkerhedsfunktion, der forhindrer, at data fra forskellige kilder kombineres automatisk. Når værktøjet samler disse datakilder, kan Excel derfor vise en advarsel om “niveauer af beskyttelse af personlige oplysninger”. I dette værktøj kombineres dataene lokalt i dit eget Excel-ark. Der sendes ikke personlige oplysninger videre. For at regnearket kan fungere korrekt, skal du vælge: “Ignorer niveauer af beskyttelse af personlige oplysninger” Du skal kun gøre dette én gang. | N5: 1. Gå til fanen Data -> Hent data -> Forespørgselsindstillinger. | S5: 2. Under Aktuel projektmappe, vælg "Beskyttelse af personlige oplysninger". Sæt derefter prik i "Ignorer beskyttelsesniveauerne, og øg muligvis ydeevnen."
B7: Når dette er gjort, kan du gå til: | E7: Kontrolpanel | N7: 3. Nogle gange er ovenstående ikke muligt, eller uden effekt. I det tilfælde skal vi rette følgende.
N8: Gå til fanen Data -> Hent data -> Forespørgselsindstillinger. Markér hver linje og tryk "Redigér tilladelser…"
B10: Vejledninger til de forskellige faner kan læses længere nede.
N28: 4. Vælg "Type:Anonym" på alle datakilder. Vælg "Organisation" i Niveau for beskyttelse af personlige oplysninger. Det er den klassifikation der giver mindst besvær, men det vigtigste er, at alle datakilder har den samme klassifikation.
B50: Vejledning til "Din Elregning"
B101: Vejledning til Overskudsproduktion
C149: Vejledning til Find Skjulte Tillæg
C187: Vejledning til Timespecifikation

Sheet Kontrolpanel
C2: =HYPERLINK(P10,"Elindsigt " & Aktuel_version) -> Elindsigt 2.2 | L2: Vejledning - Hent Token fra eloverblik.dk | Q2: Det med småt
D4: Step 1 - Stamdata
P5: Version
C6: 1. | D6: Indtast Token fra eloverblik.dk | G6: Stamdata hentet fra Eloverblik.dk | M6: For at få adgang til dine egne forbrugsdata, skal vi hente en nøgle fra eloverblik.dk, statens officielle hjemmeside til at tilgå egne forbrugsdata. | P6: 2.2
D7: Token: | F7: . | G7: MålepunktsID: | H7: {=EloverblikStamdataRaw[meteringPointId]} -> 0 | P7: Udviklet af:
D8: Se Vejledning længere til højre. | G8: Målernummer: | H8: {=EloverblikStamdataRaw[meterNumber]} -> 0 | P8: Nicolas Kofoed Jørgensen
G9: Adresse: | H9: {=EloverblikStamdataRaw[streetName] & ", " & EloverblikStamdataRaw[buildingNumber] & " " & EloverblikStamdataRaw[floorId] & " " & EloverblikStamdataRaw[roomId] & ", " & EloverblikStamdataRaw[postcode] & " " & EloverblikStamdataRaw[cityName]} -> , , | L9: 1. | M9: Log ind med med MitID på: | P9: Dataspecialist @ TREFOR El-net Øst
C10: 2. | D10: Forventet årsforbrug: | E10: 5000 | G10: Kunde: | H10: {=EloverblikStamdataRaw[firstConsumerPartyName]} -> 0 | M10: http://elOverblik.dk | P10: http://nicolaskj.dk
D11: Skriv hvor mange kWh du ca. bruger årligt. Bruges til at hente de rette elaftaler. | G11: Netselskab: | H11: {=EloverblikStamdataRaw[gridOperatorName]} -> 0 | L11: 2. | M11: Tryk på menu-ikonet øverst til højre. | P11: sct.nicolaus@gmail.com
G12: Elleverandør: | H12: {=EloverblikStamdataRaw[balanceSupplierName]} -> 0
G13: Elleverandør siden: | H13: {=EloverblikStamdataRaw[balanceSupplierStartDate]} -> 0 | P13: Disclaimer:
G14: Indflytningsdato: | H14: {=EloverblikStamdataRaw[consumerStartDate]} -> 0 | P14: Beregningerne i dette ark er vejledende og baseret på offentlige data. Der kan forekomme fejl og afrundingsforskelle i forhold til din officielle elregning. Værktøjet er uafhængigt og erstatter ikke fakturering fra elleverandør.
C15: 3. | D15: HENT STAMDATA CTRL+ALT+F5 | G15: Effektgrænse: | H15: {=EloverblikStamdataRaw[powerLimitA]} -> 0
L16: 3. | M16: Vælg API-adgang
P18: © 2026 Nicolas Kofoed Jørgensen. Regnearket må ikke kopieres, videredistribueres eller anvendes kommercielt uden skriftlig tilladelse. Data baseret på offentlige kilder fra EnergidataService og Energinet.
D20: Step 2 - Elaftale
L22: 4. | M22: Tryk på "Opret Token" | P22: Giv en kop kaffe
C23: 4. | D23: Vælg metode til elaftale
D24: Metode: | E24: Jeg vælger en aftale på listen (5A) | P24: Elindsigt er udviklet i min fritid og stilles gratis til rådighed. Hvis du har glæde af det og har lyst til at støtte arbejdet, kan du give en kop kaffe på MobilePay: 6253HX.
C26: 5A. | D26: Elaftale (liste) | F26: 5B. | G26: Elaftale (manuel) | L26: 5. | M26: Giv dit Token et valgfrit navn, f.eks. "hjemme" eller "sommerhus".
D27: Vælg Elleverandør: | E27: Ingen valgt | G27: Abonnement | H27: Pristillæg | I27: Gælder fra
D28: Vælg elaftale: | E28: Ingen valgt | G28: 0 | H28: 0 | I28: 45658
D30: Abonnement: | E30: {=IFERROR(1.25*INDEX(elaftaler[Månedlig betaling],MATCH(1,(elaftaler[Elleverandør]=E27)*(elaftaler[Produkt]=E28),0)),"Ingen valgt")} -> 0
D31: Pristillæg: | E31: {=IFERROR(100*1.25*INDEX(elaftaler[Tillæg pr. kWh],MATCH(1,(elaftaler[Elleverandør]=E27)*(elaftaler[Produkt]=E28),0)),"Ingen valgt")} -> 0
D32: Variable elaftaler leveret i samarbejde med: | L32: 6. | M32: Kopiér dit Token ved at trykke på Kopi-ikonet.
G33: Du kan manuelt indtaste din elaftale - eller flere, hvis du har skiftet undervejs. Husk at vælge "Manuelt" i pkt. 4.
P34: Changelog
P35: 2.2
Q36: - Kontrolpanelet gjort mere brugervenlig
C37: 6. | D37: HENT PRISER CTRL+ALT+F5 | Q37: - Rettelser til tarif-funktionen, så den er mere robust.
L38: 7. | M38: Sæt dit Token ind i dette regneark, øverst til venstre. | Q38: - Tilføjet mulighed for at angive din effektgrænse manuelt, hvis det ikke kan hentes fra eloverblik.dk
M39: Fejlfinding: Hvis du ikke kan se dit elforbrug i eloverblik.dk, skal du kontakte din elleverandør. | Q39: - Farvepaletten ændret en anelse, da farverne var meget skarpe på nogle skærme.
Q40: - Et par tiltag mere for at øge bagudkompatabiliteten til Excel 2019
Q41: - Tilføjet mulighed for at vælge imellem flere produktionsadresser.
D42: Ekstra funktioner - Flere adresser og Produktion | L42: 8. | M42: Du opdaterer data ved at trykke CTRL+ALT+F5 eller gå øverst op i Excelmenuen -> Data ->Opdatér alle | Q42: - Elaftaler leveres nu I samarbejde med Strømligning.dk
Q43: - Rettet diverse bugs.
M44: Nederst i Excel kan du se, at data bliver hentet. | P44: 2.1
D45: Vælg din forbrugsadresse | G45: Vælg din produktionsadresse | Q45: - Forsiden gjort mere brugervenlig
D46: Har du flere boliger, kan du vælge imellem dem her. Du skal opdatere data igen efterfølgende. (CTRL+ALT+F5) | G46: Har du flere boliger med produktion, kan du også vælge imellem dem her. Du skal opdatere data igen efterfølgende. | Q46: - Periodevalg - er nu et valgfrit menupunkt. Hvis tomt hentes data fra 2025-01-01 til dags dato.
Q47: - Mulighed for at indtaste flere manuelle aftaler
...

Sheet Din Regning
C2: Din Elregning
C3: Denne oversigt viser en teknisk opdeling af din elregning for den valgte periode. Uanset hvordan din elleverandør har designet selve regningen, består alle elregninger i Danmark af de samme grundelementer: betaling for el hos elleverandøren, transport i elnettet hos netselskabet, landsdækkende tariffer hos Energinet samt afgifter og moms til staten. Formålet med oversigten er at give gennemsigtighed og mulighed for kontrol. Her vises, hvordan dine samlede omkostninger fordeler sig på de enkelte dele, både uden og med moms, samt som gennemsnitlige priser i kr/kWh. På den måde kan du lettere forstå, hvad der driver prisen på din el, og sammenholde tallene med din faktiske elregning – også selv om den er præsenteret anderledes eller har sammenslåede poster.
C6: Elregning for perioden: | F6: =CUBEVALUE("ThisWorkbookDataModel","[Measures].[Min.Dato]",Udsnit_DK_Time__År,Udsnit_DK_Time__Måned,Udsnit_Dato1,Udsnit_Time) -> 46023 | G6: til og med | H6: =CUBEVALUE("ThisWorkbookDataModel","[Measures].[Max.Dato]",Udsnit_DK_Time__År,Udsnit_DK_Time__Måned,Udsnit_Dato1,Udsnit_Time) -> 46032 | J6: Andel af elregning
D7: Adresse: | F7: {=EloverblikStamdataRaw[streetName]&" "&EloverblikStamdataRaw[buildingNumber]&EloverblikStamdataRaw[floorId]&" "&EloverblikStamdataRaw[roomId]&", "&EloverblikStamdataRaw[postcode]&" "&EloverblikStamdataRaw[cityName]} -> ,
C8: STRØMFORBRUG I PERIODEN: | E8: =CUBEVALUE("ThisWorkbookDataModel","[Measures].[SUM Forbrug]",Udsnit_DK_Time__År,Udsnit_DK_Time__Måned,Udsnit_Dato1,Udsnit_Time) -> 159.34 | F8: {="Aftagenummer:"&" "&EloverblikStamdataRaw[meteringPointId]} -> Aftagenummer: | H8: {="Målernummer: "&EloverblikStamdataRaw[meterNumber]} -> Målernummer:
C9: Elleverandør | D9: Elektricitet | E9: Strømforbrug | F9: Ex moms | G9: Gns. Pris | H9: Med moms | I9: Gns. Pris | J9: Procent
C10: =valgt_ellev -> Ingen valgt
C11: Elaftale: | D11: Strømpris (Spotpris) | E11: =+E8 -> 159.34 | F11: =CUBEVALUE("ThisWorkbookDataModel","[Measures].[SUM Spotpris]",Udsnit_DK_Time__År,Udsnit_DK_Time__Måned,Udsnit_Dato1,Udsnit_Time) -> 116.558 | G11: =+F11/$E$8 -> 0.73150495 | H11: =+F11 -> 116.558 | I11: =+H11/$E$8 -> 0.73150495 | J11: =+F11/$F$38 -> 0.45289658
C12: =valgt_produkt -> Ingen valgt | D12: Pristillæg | E12: =+E8 -> 159.34 | F12: =CUBEVALUE("ThisWorkbookDataModel","[Measures].[SUM Pristillæg]",Udsnit_DK_Time__År,Udsnit_DK_Time__Måned,Udsnit_Dato1,Udsnit_Time) -> 7.967 | G12: =+F12/$E$8 -> 0.05 | H12: =+F12*1.25 -> 9.95875 | I12: =+H12/$E$8 -> 0.0625 | J12: =+F12/$F$38 -> 0.030956495
D13: Abonnement | F13: =CUBEVALUE("ThisWorkbookDataModel","[Measures].[SUM ellev abonnement]",Udsnit_DK_Time__År,Udsnit_DK_Time__Måned,Udsnit_Dato1,Udsnit_Time) -> 5.16 | G13: =+F13/$E$8 -> 0.032383582 | H13: =+F13*1.25 -> 6.45 | I13: =+H13/$E$8 -> 0.040479478 | J13: =+F13/$F$38 -> 0.020049644
D14: Elleverandør I alt | F14: =+F11+F12+F13 -> 129.685 | G14: =+F14/$E$8 -> 0.81388853 | H14: =+F14*1.25 -> 162.10625 | I14: =+H14/$E$8 -> 1.0173607 | J14: =+F14/$F$38 -> 0.50390272
C16: Netselskab | D16: Transport, lokalt | E16: Strømforbrug | F16: Ex moms | G16: Gns. Pris | H16: Med moms | I16: Gns. Pris | J16: Procent
C17: {=EloverblikStamdataRaw[gridOperatorName]} -> 0
D18: Nettarif | E18: =+E8 -> 159.34 | F18: =CUBEVALUE("ThisWorkbookDataModel","[Measures].[SUM Nettarif]",Udsnit_DK_Time__År,Udsnit_DK_Time__Måned,Udsnit_Dato1,Udsnit_Time) -> 66.932328 | G18: =IFERROR(F18/E18,0) -> 0.4200598 | H18: =+F18*1.25 -> 83.66541 | I18: =IFERROR(H18/E18,0) -> 0.52507475 | J18: =IFERROR(F18/$F$38,0) -> 0.26007158
C19: Fordelt på | D19: Nettarif, Lav - 00-06 | E19: =CUBEVALUE("ThisWorkbookDataModel","[Measures].[SUM Forbrug]","[Tariflast].[Tariflast].&[Lavlast]",Udsnit_DK_Time__År,Udsnit_DK_Time__Måned,Udsnit_Dato1,Udsnit_Time) -> 49.15 | F19: =CUBEVALUE("ThisWorkbookDataModel","[Measures].[SUM Nettarif]","[Tariflast].[Tariflast].&[Lavlast]",Udsnit_DK_Time__År,Udsnit_DK_Time__Måned,Udsnit_Dato1,Udsnit_Time) -> 5.72106 | G19: =IFERROR(F19/E19,0) -> 0.1164 | H19: =IFERROR(F19*1.25,0) -> 7.151325 | I19: =IFERROR(H19/E19,0) -> 0.1455 | J19: =IFERROR(F19/$F$38,0) -> 0.022229693
D20: Nettarif, Høj - 06-17 & 21-24 | E20: =CUBEVALUE("ThisWorkbookDataModel","[Measures].[SUM Forbrug]","[Tariflast].[Tariflast].&[Højlast]",Udsnit_DK_Time__År,Udsnit_DK_Time__Måned,Udsnit_Dato1,Udsnit_Time) -> 77.64 | F20: =CUBEVALUE("ThisWorkbookDataModel","[Measures].[SUM Nettarif]","[Tariflast].[Tariflast].&[Højlast]",Udsnit_DK_Time__År,Udsnit_DK_Time__Måned,Udsnit_Dato1,Udsnit_Time) -> 27.111888 | G20: =IFERROR(F20/E20,0) -> 0.3492 | H20: =IFERROR(F20*1.25,0) -> 33.88986 | I20: =IFERROR(H20/E20,0) -> 0.4365 | J20: =IFERROR(F20/$F$38,0) -> 0.10534568
D21: Nettarif, Spids - 17-21 | E21: =CUBEVALUE("ThisWorkbookDataModel","[Measures].[SUM Forbrug]","[Tariflast].[Tariflast].&[Spidslast]",Udsnit_DK_Time__År,Udsnit_DK_Time__Måned,Udsnit_Dato1,Udsnit_Time) -> 32.55 | F21: =CUBEVALUE("ThisWorkbookDataModel","[Measures].[SUM Nettarif]","[Tariflast].[Tariflast].&[Spidslast]",Udsnit_DK_Time__År,Udsnit_DK_Time__Måned,Udsnit_Dato1,Udsnit_Time) -> 34.09938 | G21: =IFERROR(F21/E21,0) -> 1.0476 | H21: =IFERROR(F21*1.25,0) -> 42.624225 | I21: =IFERROR(H21/E21,0) -> 1.3095 | J21: =IFERROR(F21/$F$38,0) -> 0.13249621
D22: Abonnement | E22: {=IF(AND(F6<"2026-01-01",EloverblikStamdataRaw[netSettlementGroup]<>0),"Se note nederst","")} | F22: =CUBEVALUE("ThisWorkbookDataModel","[Measures].[SUM Netabonnement]",Udsnit_DK_Time__År,Udsnit_DK_Time__Måned,Udsnit_Dato1,Udsnit_Time) -> 36.129032 | G22: =+F22/E8 -> 0.22674176 | H22: =IFERROR(F22*1.25,0) -> 45.16129 | I22: =IFERROR(H22/$E$8,0) -> 0.2834272 | J22: =IFERROR(F22/$F$38,0) -> 0.1403826
D23: Netselskab I alt | F23: =+F18+F22 -> 103.06136 | G23: =+F23/E8 -> 0.64680156 | H23: =IFERROR(F23*1.25,0) -> 128.8267 | I23: =IFERROR(H23/$E$8,0) -> 0.80850195 | J23: =+F23/$F$38 -> 0.40045418
C25: Energinet (TSO) | D25: Transport, landsdele | E25: Strømforbrug | F25: Ex moms | G25: Gns. Pris | H25: Med moms | I25: Gns. Pris | J25: Procent | M25: Gennemsnitligt forbrug pr. døgn
D27: Systemtarif | E27: =+E8 -> 159.34 | F27: =CUBEVALUE("ThisWorkbookDataModel","[Measures].[SUM Systemtarif TSO]",Udsnit_DK_Time__År,Udsnit_DK_Time__Måned,Udsnit_Dato1,Udsnit_Time) -> 11.47248 | G27: =+F27/$E$8 -> 0.072 | H27: =+F27*1.25 -> 14.3406 | I27: =+H27/$E$8 -> 0.09 | J27: =+F27/$F$38 -> 0.044577353
D28: Transmissionstarif | E28: =+E8 -> 159.34 | F28: =CUBEVALUE("ThisWorkbookDataModel","[Measures].[SUM Transmissionstarif TSO]",Udsnit_DK_Time__År,Udsnit_DK_Time__Måned,Udsnit_Dato1,Udsnit_Time) -> 6.85162 | G28: =+F28/$E$8 -> 0.043 | H28: =+F28*1.25 -> 8.564525 | I28: =+H28/$E$8 -> 0.05375 | J28: =+F28/$F$38 -> 0.026622586 | M28: =CUBEVALUE("ThisWorkbookDataModel","[Measures].[GNS forbrug pr. døgn]",Udsnit_DK_Time__År,Udsnit_DK_Time__Måned,Udsnit_Dato1,Udsnit_Time) -> 15.934
D29: Systemabonnement | F29: =CUBEVALUE("ThisWorkbookDataModel","[Measures].[SUM Systemabonnement TSO]",Udsnit_DK_Time__År,Udsnit_DK_Time__Måned,Udsnit_Dato1,Udsnit_Time) -> 5.016 | G29: =+F29/$E$8 -> 0.031479854 | H29: =+F29*1.25 -> 6.27 | I29: =+H29/$E$8 -> 0.039349818 | J29: =+F29/$F$38 -> 0.019490119
D30: Energinet I alt | F30: =+F27+F28+F29 -> 23.3401 | G30: =+F30/$E$8 -> 0.14647985 | H30: =+F30*1.25 -> 29.175125 | I30: =+H30/$E$8 -> 0.18309982 | J30: =+F30/$F$38 -> 0.090690057 | M30: Gennemsnitlig omkostning pr.døgn
C32: Staten | D32: Afgifter | E32: Strømforbrug | F32: Ex moms | G32: Gns. Pris | H32: Med moms | I32: Gns. Pris | J32: Procent
D34: Elafgift | E34: =+E8 -> 159.34 | F34: =CUBEVALUE("ThisWorkbookDataModel","[Measures].[SUM Elafgift]",Udsnit_DK_Time__År,Udsnit_DK_Time__Måned,Udsnit_Dato1,Udsnit_Time) -> 1.27472 | G34: =+F34/$E$8 -> 0.008 | H34: =+F34*1.25 -> 1.5934 | I34: =+H34/$E$8 -> 0.01 | J34: =+F34/$F$38 -> 0.0049530392 | M34: =CUBEVALUE("ThisWorkbookDataModel","[Measures].[GNS omkostning pr. døgn]",Udsnit_DK_Time__År,Udsnit_DK_Time__Måned,Udsnit_Dato1,Udsnit_Time) -> 32.170147
D35: Staten I alt | F35: =+F34 -> 1.27472 | G35: =+F35/$E$8 -> 0.008 | H35: =+F35*1.25 -> 1.5934 | I35: =+H35/$E$8 -> 0.01 | J35: =+F35/$F$38 -> 0.0049530392
M36: Gennemsnitlig kWh-pris
E37: Strømforbrug | F37: ex moms | G37: kr/kWh ex moms | H37: Med moms | I37: kr/kWh | J37: momsbeløb
C38: TOTAL ELREGNING: | E38: =+E8 -> 159.34 | F38: =CUBEVALUE("ThisWorkbookDataModel","[Measures].[TOTAL beløb]",Udsnit_DK_Time__År,Udsnit_DK_Time__Måned,Udsnit_Dato1,Udsnit_Time) -> 257.36118 | G38: =+F38/E38 -> 1.6151699 | H38: =+F38*1.25 -> 321.70147 | I38: =+H38/E38 -> 2.0189624 | J38: =+H38-F38 -> 64.340295 | M38: =+I38 -> 2.0189624
W42: Leveringsomfang (Effektgrænse): | Y42: =teknik!B38 -> 25
D59: Note:
D60: - Alle elproducenter med anlæg under 50kw, betalte før 2026 et "Rådighedsabonnement" på 65kr/år + moms. Dette er frafaldet pr. 2026-01-01, og hos nogle netselskaber er taksten fjernet, så vi ikke kan finde den via eloverblik.dk længere. Derfor kan der være en difference på 65kr/år ex. moms ifht. din elregning.

Sheet Overskudsproduktion
C2: Afregning af Overskudsproduktion | M2: Gennemsnitligt overskudsproduktion pr.døgn
C3: Denne oversigt viser en teknisk opdeling af din afregning for din overskudsproduktion. Ligesom forbruget, er der flere forskellige parter involveret, som vi her forsøger at illustrere. Hvis din Elleverandør står angivet som "Aftagepligt", bliver du afregnet uden yderligere omkostning til netselskab og Energinet.
M6: {=IF(AND(E18_EloverblikStamdataRaw[MålepunktsID]=0,1=0),0,CUBEVALUE("ThisWorkbookDataModel","[Measures].[E18 GNS produktion pr. døgn]",Udsnit_DK_Time__År1,Udsnit_DK_Time__Måned1,Udsnit_Dato))}
C7: {=IF(E18FallbackUsed[E18FallbackUsed]=1,"OBS: Produktion registreret, men Produktionsmålepunktet kan ikke hentes via eloverblik.dk. Sandsynlig årsag er, at det ikke er registreret i samme navn som forbrugeren. Bruger alternativ metode i stedet, men kan ikke hente indfødningstarif.","")}
C9: Elregning for perioden: | F9: =CUBEVALUE("ThisWorkbookDataModel","[Measures].[Min.Dato]",Udsnit_DK_Time__År1,Udsnit_DK_Time__Måned1,Udsnit_Dato) -> 46023 | G9: til og med | H9: =CUBEVALUE("ThisWorkbookDataModel","[Measures].[Max.Dato]",Udsnit_DK_Time__År1,Udsnit_DK_Time__Måned1,Udsnit_Dato) -> 46032 | M9: Gennemsnitligt forbrug pr.døgn
D10: Adresse: | F10: {=E18_EloverblikStamdataRaw[Vejnavn]&" "& E18_EloverblikStamdataRaw[Husnummer]& E18_EloverblikStamdataRaw[Etage]&" "& E18_EloverblikStamdataRaw[Side]&", "& E18_EloverblikStamdataRaw[Postnummer]&" "&E18_EloverblikStamdataRaw[Bynavn]} -> , | H10: {="Aftagenummer:" & " " & E18_EloverblikStamdataRaw[MålepunktsID]} -> Aftagenummer:
C11: STRØMFORBRUG I PERIODEN: | F11: {="Nettoafregningsgruppe: " & E18_EloverblikStamdataRaw[Nettoafregningsgruppe]} -> Nettoafregningsgruppe:
C12: Elleverandør | D12: Elektricitet | E12: Overproduktion | F12: Ex moms | G12: Gns. Pris | I12: Med moms | J12: Gns. Pris
C13: {=E18_EloverblikStamdataRaw[Elleverandør]} -> 0 | M13: {=IF(AND(E18_EloverblikStamdataRaw[MålepunktsID]=0,1=0),0,CUBEVALUE("ThisWorkbookDataModel","[Measures].[GNS forbrug pr. døgn]",Udsnit_DK_Time__År1,Udsnit_DK_Time__Måned1,Udsnit_Dato))} -> 15.934 | AE13: =CUBEVALUE("ThisWorkbookDataModel","[Measures].[E18 SUM Pristillæg]",Udsnit_DK_Time__År1,Udsnit_DK_Time__Måned1,Udsnit_Dato,Udsnit_Time_prod)
D14: Strømpris (Spotpris) | E14: =+E11 | F14: {=IF(AND(E18_EloverblikStamdataRaw[MålepunktsID]=0,1=0),0,CUBEVALUE("ThisWorkbookDataModel","[Measures].[E18 SUM Spotpris]",Udsnit_DK_Time__År1,Udsnit_DK_Time__Måned1,Udsnit_Dato,Udsnit_Time_prod))} | G14: =IFERROR(F14/$E$11,0) -> 0 | I14: =IFERROR(IF(C13="Aftagepligt",F14,F14*1.25),0) -> 0 | J14: =IFERROR(I14/$E$11,0) -> 0
D15: Pristillæg | E15: =+E11 | F15: {=IFERROR(-1*IF(AND(E18_EloverblikStamdataRaw[MålepunktsID]=0,1=0),0,CUBEVALUE("ThisWorkbookDataModel","[Measures].[E18 SUM Pristillæg]",Udsnit_DK_Time__År1,Udsnit_DK_Time__Måned1,Udsnit_Dato,Udsnit_Time_prod)),"")} | G15: =IFERROR(F15/$E$11,0) -> 0 | I15: =IFERROR(F15*1.25,0) -> 0 | J15: =IFERROR(I15/$E$11,0) -> 0
D16: Abonnement | F16: {=IFERROR(-1*IF(AND(E18_EloverblikStamdataRaw[MålepunktsID]=0,1=0),0,CUBEVALUE("ThisWorkbookDataModel","[Measures].[E18 SUM Ellev prod.abonnement]",Udsnit_DK_Time__År1,Udsnit_DK_Time__Måned1,Udsnit_Dato,Udsnit_Time_prod)),"")} -> 0 | G16: =IFERROR(F16/$E$11,0) -> 0 | I16: =+F16*1.25 -> 0 | J16: =IFERROR(I16/$E$11,0) -> 0
D17: Elleverandør I alt | F17: =IFERROR(F14+F15+F16,0) -> 0 | G17: =IFERROR(F17/$E$11,0) -> 0 | I17: =+F17*1.25 -> 0 | J17: =IFERROR(I17/$E$11,0) -> 0
C19: Netselskab | D19: Transport, lokalt | E19: Overproduktion | F19: Ex moms | G19: Gns. Pris | I19: Med moms | J19: Gns. Pris
C20: {=E18_EloverblikStamdataRaw[Netselskab]} -> 0
D21: Net Indfødningstarif | E21: =+E11 | F21: {=IFERROR(-1*IF(AND(E18_EloverblikStamdataRaw[MålepunktsID]=0,1=0),0,CUBEVALUE("ThisWorkbookDataModel","[Measures].[E18 SUM DSO Indfødningstarif]",Udsnit_DK_Time__År1,Udsnit_DK_Time__Måned1,Udsnit_Dato,Udsnit_Time_prod)),"")} | G21: =IFERROR(F21/$E$11,0) -> 0 | I21: =IFERROR(F21*1.25,0) -> 0 | J21: =IFERROR(I21/$E$11,0) -> 0
D22: Netselskab I alt | F22: =+F21 | G22: =IFERROR(F22/E11,0) -> 0 | I22: =IFERROR(F22*1.25,0) -> 0 | J22: =IFERROR(I22/$E$11,0) -> 0
C24: Energinet (TSO) | D24: Transport, landsdele | E24: Overproduktion | F24: Ex moms | G24: Gns. Pris | I24: Med moms | J24: Gns. Pris
D26: Indfødningstarif TSO | E26: =+E11 | F26: {=IFERROR(-1*IF(AND(E18_EloverblikStamdataRaw[MålepunktsID]=0,1=0),0,CUBEVALUE("ThisWorkbookDataModel","[Measures].[E18 SUM TSO Indfødningstarif]",Udsnit_DK_Time__År1,Udsnit_DK_Time__Måned1,Udsnit_Dato,Udsnit_Time_prod)),"")} | G26: =IFERROR(F25/$E$11,0) -> 0 | I26: =IFERROR(F26*1.25,0) -> 0 | J26: =IFERROR(I26/$E$11,0) -> 0
D27: Balancetarif TSO | E27: =+E11 | F27: {=IFERROR(-1*IF(AND(E18_EloverblikStamdataRaw[MålepunktsID]=0,1=0),0,CUBEVALUE("ThisWorkbookDataModel","[Measures].[E18 SUM TSO Balancetarif]",Udsnit_DK_Time__År1,Udsnit_DK_Time__Måned1,Udsnit_Dato,Udsnit_Time_prod)),"")} | G27: =IFERROR(F26/$E$11,0) -> 0 | I27: =IFERROR(F27*1.25,0) -> 0 | J27: =IFERROR(I27/$E$11,0) -> 0
D28: Energinet I alt | F28: =IFERROR(F26+F27,0) -> 0 | G28: =IFERROR(F27/$E$11,0) -> 0 | I28: =+F28*1.25 -> 0 | J28: =IFERROR(I28/$E$11,0) -> 0
E30: Overproduktion | F30: ex moms | G30: kr/kWh ex moms | H30: Moms udgør | I30: Med moms | J30: kr/kWh
C31: TOTAL ELREGNING: | E31: =+E11 | F31: =IF(F17="",0,F17)+IF(F22="",0,F22)+IF(F28="",0,F28) -> 0 | G31: =IFERROR(F31/$E$11,0) -> 0 | H31: =+F31*0.2 -> 0 | I31: =+F31*1.25 -> 0 | J31: =IFERROR(I31/$E$11,0) -> 0

Sheet Find Skjulte tillæg
C2: Find Skjulte Tillæg
C4: Hvis din elregning lyder på et større beløb end hvad beløbet på "Din Regning" når frem til, kan det være fordi din elleverandør har skjulte eller ikke-obligatoriske pristillæg. Det kan være reelt nok, hvis du f.eks. har en Grøn aftale, hvor du betaler ekstra tillæg for at få grøn strøm. Det kan dog også være noget, som de "desværre" har glemt at fortælle dig om. Brug denne regnemaskine, til at finde finde ud af hvor meget du har betalt ekstra, ud over det obligatoriske. Der tages forbehold for regnefejl.
C9: DIT INPUT: Indtast det beløb der står nederst på den elregning, du har modtaget fra din elleverandør i samme periode. | J9: ELREGNING FOR PERIODEN
J10: =+'Din Regning'!F6 -> 46023 | K10: - | L10: =+'Din Regning'!H6 -> 46032
F12: Elregningens beløb inkl. Moms: | K12: Elleverandørens andel: | L12: =SUM(CUBEVALUE("ThisWorkbookDataModel","[Measures].[SUM Elleverandør]",Udsnit_DK_Time__År,Udsnit_DK_Time__Måned,Udsnit_Dato1))*1.25 -> 162.10625
F14: Der er skjulte tillæg for i alt: | G14: =IF(G12<>0,G12-L20,0) -> 0 | K14: Netselskabets andel: | L14: =SUM(CUBEVALUE("ThisWorkbookDataModel","[Measures].[SUM DSO]",Udsnit_DK_Time__År,Udsnit_DK_Time__Måned,Udsnit_Dato1))*1.25 -> 128.8267
F16: det svarer til et skjult pristillæg på: | G16: =IFERROR(SUM(G14/SUM(CUBEVALUE("ThisWorkbookDataModel","[Measures].[SUM Forbrug]",Udsnit_DK_Time__År,Udsnit_DK_Time__Måned,Udsnit_Dato1)))*100,0) -> 0 | K16: Energinet (TSO)'s andel: | L16: =SUM(CUBEVALUE("ThisWorkbookDataModel","[Measures].[SUM TSO]",Udsnit_DK_Time__År,Udsnit_DK_Time__Måned,Udsnit_Dato1))*1.25 -> 29.175125
F18: Eller skjult abonnement på: | G18: =IF(AND(G12<>0,L20<>0),G14/(CUBEVALUE("ThisWorkbookDataModel","[Measures].[Antal måneder]",Udsnit_DK_Time__År,Udsnit_DK_Time__Måned,Udsnit_Dato1)),0) -> 0 | K18: Statens andel: | L18: =SUM(CUBEVALUE("ThisWorkbookDataModel","[Measures].[SUM Elafgift]",Udsnit_DK_Time__År,Udsnit_DK_Time__Måned,Udsnit_Dato1))*1.25 -> 1.5934
K20: Beløb i alt: | L20: =CUBEVALUE("ThisWorkbookDataModel","[Measures].[TOTAL beløb]",Udsnit_DK_Time__År,Udsnit_DK_Time__Måned,Udsnit_Dato1)*1.25 -> 321.70147

Sheet Timespecifikation
B2: Timespecifikation
B5: Rækkemærkater | C5: Forbrug (kWh) | D5: Elleverandør abonnement | E5: Netabonnement | F5: Systemtarif TSO | G5: Transmissionstarif TSO | H5: Pristillæg | I5: Spotpris | J5: Nettarif | K5: Elafgift | L5: TOTAL beløb pr. time u. moms
B6: 46023 | C6: 0.22 | D6: 0.0215 | E6: 0.15053763 | F6: 0.01584 | G6: 0.00946 | H6: 0.011 | I6: 0.095744 | J6: 0.025608 | K6: 0.00176 | L6: 0.159412
B7: 46023.042 | C7: 0.23 | D7: 0.0215 | E7: 0.15053763 | F7: 0.01656 | G7: 0.00989 | H7: 0.0115 | I7: 0.072818 | J7: 0.026772 | K7: 0.00184 | L7: 0.13938
B8: 46023.083 | C8: 0.22 | D8: 0.0215 | E8: 0.15053763 | F8: 0.01584 | G8: 0.00946 | H8: 0.011 | I8: 0.032142 | J8: 0.025608 | K8: 0.00176 | L8: 0.09581
B9: 46023.125 | C9: 0.24 | D9: 0.0215 | E9: 0.15053763 | F9: 0.01728 | G9: 0.01032 | H9: 0.012 | I9: 0.011256 | J9: 0.027936 | K9: 0.00192 | L9: 0.080712
B10: 46023.167 | C10: 0.23 | D10: 0.0215 | E10: 0.15053763 | F10: 0.01656 | G10: 0.00989 | H10: 0.0115 | I10: 0.006578 | J10: 0.026772 | K10: 0.00184 | L10: 0.07314
B11: 46023.208 | C11: 0.21 | D11: 0.0215 | E11: 0.15053763 | F11: 0.01512 | G11: 0.00903 | H11: 0.0105 | I11: 0.004011 | J11: 0.024444 | K11: 0.00168 | L11: 0.064785
B12: 46023.25 | C12: 0.24 | D12: 0.0215 | E12: 0.15053763 | F12: 0.01728 | G12: 0.01032 | H12: 0.012 | I12: 0.00504 | J12: 0.083808 | K12: 0.00192 | L12: 0.130368
B13: 46023.292 | C13: 0.28 | D13: 0.0215 | E13: 0.15053763 | F13: 0.02016 | G13: 0.01204 | H13: 0.014 | I13: 0.005992 | J13: 0.097776 | K13: 0.00224 | L13: 0.152208
B14: 46023.333 | C14: 0.24 | D14: 0.0215 | E14: 0.15053763 | F14: 0.01728 | G14: 0.01032 | H14: 0.012 | I14: 0.005784 | J14: 0.083808 | K14: 0.00192 | L14: 0.131112
B15: 46023.375 | C15: 0.22 | D15: 0.0215 | E15: 0.15053763 | F15: 0.01584 | G15: 0.00946 | H15: 0.011 | I15: 0.006204 | J15: 0.076824 | K15: 0.00176 | L15: 0.121088
B16: 46023.417 | C16: 0.23 | D16: 0.0215 | E16: 0.15053763 | F16: 0.01656 | G16: 0.00989 | H16: 0.0115 | I16: 0.007475 | J16: 0.080316 | K16: 0.00184 | L16: 0.127581
B17: 46023.458 | C17: 0.36 | D17: 0.0215 | E17: 0.15053763 | F17: 0.02592 | G17: 0.01548 | H17: 0.018 | I17: 0.013176 | J17: 0.125712 | K17: 0.00288 | L17: 0.201168
... B245: 46032.958 | C245: 0.31 | D245: 0.0215 | E245: 0.15053763 | F245: 0.02232 | G245: 0.01333 | H245: 0.0155 | I245: 0.227478 | J245: 0.108252 | K245: 0.00248 | L245: 0.38936
B246: Hovedtotal | C246: 159.34 | D246: 5.16 | E246: 36.129032 | F246: 11.47248 | G246: 6.85162 | H246: 7.967 | I246: 116.558 | J246: 66.932328 | K246: 1.27472 | L246: 211.05615

Sheet teknik
M2: Produkt | R2: E17
G3: Elleverandør | H3: Produkt | I3: Månedlig betaling | J3: Tillæg pr. kWh | L3: Elleverandør | M3: Ingen valgt | R3: success | S3: errorCode | T3: errorText | U3: id | V3: stackTrace | W3: meteringPointId | X3: parentMeteringPointId | Y3: typeOfMP | Z3: energyTimeSeriesMeasureUnit | AA3: estimatedAnnualVolume | AB3: settlementMethod | AC3: meterNumber | AD3: gridOperatorName | AE3: meteringGridAreaIdentification | AF3: netSettlementGroup | AG3: physicalStatusOfMP | AH3: consumerCategory | AI3: powerLimitKW | AJ3: powerLimitKWDecimal | AK3: powerLimitA | AL3: subTypeOfMP | AM3: productionObligation | AN3: mpCapacity | AO3: mpConnectionType | AP3: disconnectionType | AQ3: product | AR3: consumerCVR | AS3: dataAccessCVR | AT3: consumerStartDate | AU3: meterReadingOccurrence | AV3: mpReadingCharacteristics | AW3: meterCounterDigits | AX3: meterCounterMultiplyFactor | AY3: meterCounterUnit | AZ3: meterCounterType | BA3: taxReduction | BB3: taxSettlementDate | BC3: mpRelationType | BD3: firstConsumerPartyName | BE3: secondConsumerPartyName | BF3: occurrence | BG3: meteringPointAlias | BH3: gridOperatorID | BI3: gridOperatorID_SchemeAgencyIdentifier | BJ3: assetType | BK3: mpAddressWashInstructions | BL3: darReference | BM3: streetCode | BN3: streetName | BO3: buildingNumber | BP3: floorId | BQ3: roomId | BR3: postcode | BS3: cityName | BT3: citySubDivisionName | BU3: municipalityCode | BV3: locationDescription | BW3: balanceSupplierName | BX3: balanceSupplierId | BY3: balanceSupplierStartDate | BZ3: balanceSupplierId_SchemeAgencyIdentifier | CA3: protectedName | CB3: contactAddresses | CC3: childMeteringPoints | EG3: E18
G4: Altid Energi | H4: Strøm til indkøbspris | I4: 30.4 | J4: 0 | L4: AURA | M4: {=IFERROR(OFFSET(teknik!$H$1, MATCH(Kontrolpanel!$E$27, teknik!$G:$G, 0)-1, 0, COUNTIF(teknik!$G:$G, Kontrolpanel!$E$27), 1),"")} -> Ingen valgt | EG4: MålepunktsID | EH4: Målernummer | EI4: Netselskab | EJ4: Netområdenummer | EK4: Nettoafregningsgruppe | EL4: Netselskab GLN | EM4: Postnummer | EN4: Bynavn | EO4: Vejnavn | EP4: Husnummer | EQ4: Etage | ER4: Side | ES4: Indflytningsdato | ET4: Aflæsningsfrekvens | EU4: Elleverandør | EV4: Elleverandør GLN | EW4: Elleverandør siden | EX4: data hentet
G5: Altid Energi | H5: Strøm til indkøbspris - 18 kr/md | I5: 14.4 | J5: 0 | L5: Altid Energi
G6: Andel Energi | H6: BasisEL KAB | I6: 26.4 | J6: 0.04 | L6: Andel Energi
G7: Andel Energi | H7: FlexEnergi | I7: 15.2 | J7: 0.11616 | L7: Bornholms Energi & Forsyning
G8: Andel Energi | H8: SolEnergi | I8: 15.2 | J8: 0.18193 | L8: Budget Energi
B9: status | G9: Andel Energi | H9: TimeEnergi | I9: 15.2 | J9: 0.11408 | L9: Cheap Energy
B10: =+BA4 -> 0 | G10: Andel Energi | H10: Variabel pris | I10: 31.96 | J10: 0.045 | L10: Clever
G11: AURA | H11: FlexEl | I11: 16.8 | J11: 0.08 | L11: DCC Energi
G12: AURA | H12: FlexEl Intro | I12: 16.8 | J12: 0.08 | L12: Dansk Energiforsyning | R12: Valgt E17 mpID: | S12: {=IF(_xlfn.IFNA(_xlfn.TRIMRANGE(_xlfn.TEXTAFTER(Valgt_adresse,"|")),"")="",INDEX(E17_adresseliste[meteringPointId],1),_xlfn.IFNA(_xlfn.TRIMRANGE(_xlfn.TEXTAFTER(Valgt_adresse,"|")),""))} -> 0 | U12: E17_adresseliste | AF12: Valgt E18 mpID: | AG12: {=IF(_xlfn.IFNA(_xlfn.TRIMRANGE(_xlfn.TEXTAFTER(E18_valgt_adresse,"|")),"")="",INDEX(E18_adresseliste[meteringPointId],1),_xlfn.IFNA(_xlfn.TRIMRANGE(_xlfn.TEXTAFTER(E18_valgt_adresse,"|")),""))} -> 0 | AH12: E18_adresseliste
B13: E18FallbackUsed | G13: AURA | H13: FlexEl Intro | I13: 0 | J13: 0 | L13: Dansk Strøm | R13: Adresseliste | U13: meteringPointId | V13: meterReadingOccurrence | W13: meterNumber | X13: settlementMethod | Y13: balanceSupplierName | Z13: postcode | AA13: cityName | AB13: consumerStartDate | AC13: Adresse | AD13: Display | AF13: Adresseliste | AH13: meteringPointId | AI13: meterReadingOccurrence | AJ13: meterNumber | AK13: settlementMethod | AL13: balanceSupplierName | AM13: postcode | AN13: cityName | AO13: consumerStartDate | AP13: Adresse | AQ13: Display
B14: 0 | G14: AURA | H14: FlexEl Kampagne | I14: 0 | J14: 0 | L14: E-GO | R14: {=E17_adresseliste[Display]} -> 0 | AF14: {=E18_adresseliste[Display]} -> 0
G15: AURA | H15: FlexEl Kampagne | I15: 16.8 | J15: 0.08 | L15: ENLY
G16: AURA | H16: Power | I16: 39.2 | J16: 0 | L16: EVDK
G17: AURA | H17: Power Intro | I17: 0 | J17: 0 | L17: EWII
G18: b.energy | H18: b.energy | I18: 36 | J18: 0.2296 | L18: Energi Fyn
G19: Bornholms Energi & Forsyning | H19: TimeEnergi - Lavt forbrug | I19: 16 | J19: 0.05 | L19: Energi Viborg
G20: Bornholms Energi & Forsyning | H20: TimeEnergi Måned - Lavt forbrug | I20: 16 | J20: 0.05 | L20: EnergiX
G21: Budget Energi | H21: Variabel elpris | I21: 0 | J21: 0.184 | L21: Energidrift
G22: Cheap Energy | H22: Flex Privat | I22: 15.2 | J22: 0.1024 | L22: Energiselskabet Elg
G23: Cheap Energy | H23: Variabel Garanti | I23: 0 | J23: 0 | L23: Energy Nordic
G24: Cheap Energy | H24: Variabel Garanti - 5,9 øres tillæg | I24: 0 | J24: 0.0472 | L24: Enkel Energi
G25: Cheap Energy | H25: Variabel Garanti - Intro | I25: 0 | J25: 0.016 | L25: Fair Strøm
G26: Clever | H26: Clever Power | I26: 47.2 | J26: 0 | L26: Fairpris
G27: Clever | H27: Clever Power - 49 kr/md | I27: 39.2 | J27: 0.0062678 | L27: Forskel
B28: Procentfordeling | G28: Dansk Energiforsyning | H28: FlexEl | I28: 23.2 | J28: 0.09 | L28: Forsyning Helsingør
B29: Elleverandør | C29: Netselskab | D29: Energinet (TSO) | E29: Staten (med moms) | G29: Dansk Energiforsyning | H29: SpotEl | I29: 48.666667 | J29: 0.025 | L29: Forsyningen
B30: =+'Din Regning'!F14/'Din Regning'!$H$38 -> 0.40312218 | C30: =+'Din Regning'!F23/'Din Regning'!H38 -> 0.32036335 | D30: =+'Din Regning'!F30/'Din Regning'!H38 -> 0.072552046 | E30: =SUM('Din Regning'!F35+('Din Regning'!F38*0.25))/'Din Regning'!H38 -> 0.20396243 | G30: Dansk Strøm | H30: FLEX | I30: 87.2 | J30: 0.12 | L30: GEV Elhandel
G31: DCC Energi | H31: Flex | I31: 0 | J31: 0.06592 | L31: Gasel
G32: DCC Energi | H32: Flex - Vedvarende Energi | I32: 0 | J32: 0.09392 | L32: Green Power Energy
G33: E-GO | H33: E-GO Spot el-aftale | I33: 0 | J33: 0.1 | L33: Greenbow
G34: Energi Fyn | H34: Grøn Strøm til kostpris + 1 kr om dagen | I34: 24.333333 | J34: 0.05 | L34: HomeCharge
G35: Energi Fyn | H35: SpotEL | I35: 12 | J35: 0.07 | L35: Ingen valgt
G36: Energi Fyn | H36: Strøm til kostpris + 50 øre om dagen | I36: 12.166667 | J36: 0 | L36: Jysk Energi
B37: PowerLimitKW | G37: Energi Fyn | H37: VariabEL | I37: 0 | J37: 0.064 | L37: Kärnfull
B38: 25 | G38: Energi Viborg | H38: Flex-El | I38: 16 | J38: 0.05 | L38: LOOAD
G39: Energi Viborg | H39: Intro-Flex-El | I39: 0 | J39: 0.02 | L39: Lokal Energi
G40: Energidrift | H40: Privat, Grøn Strøm, Variabel | I40: 39.2 | J40: 0.45 | L40: Modstrøm
G41: Energiselskabet Elg | H41: Energiselskabet Elg | I41: 23.2 | J41: 0.124 | L41: NRGi
...
